Package: ExperimentHubData Version: 1.30.0 Command: /Library/Frameworks/R.framework/Resources/bin/R CMD build --keep-empty-dirs --no-resave-data ExperimentHubData StartedAt: 2024-10-16 19:10:35 -0400 (Wed, 16 Oct 2024) EndedAt: 2024-10-16 19:12:24 -0400 (Wed, 16 Oct 2024) EllapsedTime: 108.5 seconds RetCode: 0 Status: OK PackageFile: ExperimentHubData_1.30.0.tar.gz PackageFileSize: 223 KiB