Package: ExperimentHubData Version: 1.30.0 Command: /Library/Frameworks/R.framework/Resources/bin/R CMD build --keep-empty-dirs --no-resave-data ExperimentHubData StartedAt: 2024-06-09 21:27:10 -0400 (Sun, 09 Jun 2024) EndedAt: 2024-06-09 21:28:18 -0400 (Sun, 09 Jun 2024) EllapsedTime: 68.0 seconds RetCode: 0 Status: OK PackageFile: ExperimentHubData_1.30.0.tar.gz PackageFileSize: 223 KiB