Package: ExperimentHubData Version: 1.30.0 Command: rm -rf ExperimentHubData.buildbin-libdir && mkdir ExperimentHubData.buildbin-libdir && /Users/biocbuild/BBS/utils/build-universal.sh ExperimentHubData_1.30.0.tar.gz /Library/Frameworks/R.framework/Resources/bin/R ExperimentHubData.buildbin-libdir StartedAt: 2024-06-11 11:11:13 -0400 (Tue, 11 Jun 2024) EndedAt: 2024-06-11 11:12:45 -0400 (Tue, 11 Jun 2024) EllapsedTime: 91.9 seconds RetCode: 0 Status: OK PackageFile: ExperimentHubData_1.30.0.tgz PackageFileSize: 511.8 KiB