Package: ExiMiR Version: 2.46.0 Command: E:\biocbuild\bbs-3.19-bioc\R\bin\R.exe CMD INSTALL ExiMiR StartedAt: 2024-10-16 16:05:20 -0400 (Wed, 16 Oct 2024) EndedAt: 2024-10-16 16:05:40 -0400 (Wed, 16 Oct 2024) EllapsedTime: 19.6 seconds RetCode: 0 Status: OK