Package: ExiMiR Version: 2.46.0 Command: F:\biocbuild\bbs-3.19-bioc\R\bin\R.exe CMD INSTALL ExiMiR StartedAt: 2024-06-26 15:44:27 -0400 (Wed, 26 Jun 2024) EndedAt: 2024-06-26 15:44:48 -0400 (Wed, 26 Jun 2024) EllapsedTime: 21.3 seconds RetCode: 0 Status: OK