Package: ExiMiR Version: 2.46.0 Command: /home/biocbuild/bbs-3.19-bioc/R/bin/R CMD build --keep-empty-dirs --no-resave-data ExiMiR StartedAt: 2024-10-16 18:27:18 -0400 (Wed, 16 Oct 2024) EndedAt: 2024-10-16 18:28:22 -0400 (Wed, 16 Oct 2024) EllapsedTime: 64.3 seconds RetCode: 0 Status: OK PackageFile: ExiMiR_2.46.0.tar.gz PackageFileSize: 1.216 MiB