Package: ExiMiR Version: 2.46.0 Command: /Library/Frameworks/R.framework/Resources/bin/R CMD build --keep-empty-dirs --no-resave-data ExiMiR StartedAt: 2024-10-16 19:09:54 -0400 (Wed, 16 Oct 2024) EndedAt: 2024-10-16 19:13:48 -0400 (Wed, 16 Oct 2024) EllapsedTime: 234.0 seconds RetCode: 0 Status: OK PackageFile: ExiMiR_2.46.0.tar.gz PackageFileSize: 1.507 MiB