Package: ExiMiR Version: 2.46.0 Command: /Library/Frameworks/R.framework/Resources/bin/R CMD check --install=check:ExiMiR.install-out.txt --library=/Library/Frameworks/R.framework/Resources/library --no-vignettes --timings ExiMiR_2.46.0.tar.gz StartedAt: 2024-06-09 20:18:04 -0400 (Sun, 09 Jun 2024) EndedAt: 2024-06-09 20:19:25 -0400 (Sun, 09 Jun 2024) EllapsedTime: 81.0 seconds RetCode: 0 Status: OK CheckDir: ExiMiR.Rcheck Warnings: 0