Package: ExiMiR Version: 2.46.0 Command: /Library/Frameworks/R.framework/Resources/bin/R CMD INSTALL ExiMiR StartedAt: 2024-06-09 15:08:15 -0400 (Sun, 09 Jun 2024) EndedAt: 2024-06-09 15:08:22 -0400 (Sun, 09 Jun 2024) EllapsedTime: 7.2 seconds RetCode: 0 Status: OK