Package: ExiMiR Version: 2.46.0 Command: /Library/Frameworks/R.framework/Resources/bin/R CMD INSTALL ExiMiR StartedAt: 2024-10-16 15:44:13 -0400 (Wed, 16 Oct 2024) EndedAt: 2024-10-16 15:44:19 -0400 (Wed, 16 Oct 2024) EllapsedTime: 5.9 seconds RetCode: 0 Status: OK