Package: ExiMiR Version: 2.46.0 Command: /Library/Frameworks/R.framework/Resources/bin/R CMD check --install=check:ExiMiR.install-out.txt --library=/Library/Frameworks/R.framework/Resources/library --no-vignettes --timings ExiMiR_2.46.0.tar.gz StartedAt: 2024-10-17 21:20:13 -0400 (Thu, 17 Oct 2024) EndedAt: 2024-10-17 21:21:14 -0400 (Thu, 17 Oct 2024) EllapsedTime: 60.5 seconds RetCode: 0 Status: OK CheckDir: ExiMiR.Rcheck Warnings: 0