Package: ExiMiR Version: 2.46.0 Maintainer: Sylvain Gubian MaintainerEmail: DL.RSupport at pmi.com git_url: https://git.bioconductor.org/packages/ExiMiR git_branch: RELEASE_3_19 git_last_commit: 34528ba git_last_commit_date: 2024-04-30 10:23:24 -0400 (Tue, 30 Apr 2024)