Package: ExCluster Version: 1.22.0 Command: rm -rf ExCluster.buildbin-libdir && mkdir ExCluster.buildbin-libdir && /Users/biocbuild/BBS/utils/build-universal.sh ExCluster_1.22.0.tar.gz /Library/Frameworks/R.framework/Resources/bin/R ExCluster.buildbin-libdir StartedAt: 2024-10-17 16:08:00 -0400 (Thu, 17 Oct 2024) EndedAt: 2024-10-17 16:09:13 -0400 (Thu, 17 Oct 2024) EllapsedTime: 73.0 seconds RetCode: 0 Status: OK PackageFile: ExCluster_1.22.0.tgz PackageFileSize: 487 KiB