Package: ExCluster Version: 1.22.0 Command: rm -rf ExCluster.buildbin-libdir && mkdir ExCluster.buildbin-libdir && /Users/biocbuild/BBS/utils/build-universal.sh ExCluster_1.22.0.tar.gz /Library/Frameworks/R.framework/Resources/bin/R ExCluster.buildbin-libdir StartedAt: 2024-10-18 18:26:36 -0400 (Fri, 18 Oct 2024) EndedAt: 2024-10-18 18:27:19 -0400 (Fri, 18 Oct 2024) EllapsedTime: 43.2 seconds RetCode: 0 Status: OK PackageFile: ExCluster_1.22.0.tgz PackageFileSize: 487 KiB