Package: EventPointer Version: 3.12.0 Command: E:\biocbuild\bbs-3.19-bioc\R\bin\R.exe CMD INSTALL EventPointer StartedAt: 2024-10-16 17:07:05 -0400 (Wed, 16 Oct 2024) EndedAt: 2024-10-16 17:08:28 -0400 (Wed, 16 Oct 2024) EllapsedTime: 82.7 seconds RetCode: 0 Status: OK