Package: EventPointer Version: 3.12.0 Command: E:\biocbuild\bbs-3.19-bioc\R\bin\R.exe CMD check --no-multiarch --install=check:EventPointer.install-out.txt --library=E:\biocbuild\bbs-3.19-bioc\R\library --no-vignettes --timings EventPointer_3.12.0.tar.gz StartedAt: 2024-10-10 00:55:28 -0400 (Thu, 10 Oct 2024) EndedAt: 2024-10-10 01:01:57 -0400 (Thu, 10 Oct 2024) EllapsedTime: 389.2 seconds RetCode: 0 Status: OK CheckDir: EventPointer.Rcheck Warnings: 0