Package: EventPointer Version: 3.12.0 Command: rm -rf EventPointer.buildbin-libdir && mkdir EventPointer.buildbin-libdir && E:\biocbuild\bbs-3.19-bioc\R\bin\R.exe CMD INSTALL --build --library=EventPointer.buildbin-libdir EventPointer_3.12.0.tar.gz StartedAt: 2024-10-10 07:18:45 -0400 (Thu, 10 Oct 2024) EndedAt: 2024-10-10 07:20:24 -0400 (Thu, 10 Oct 2024) EllapsedTime: 98.8 seconds RetCode: 0 Status: OK PackageFile: EventPointer_3.12.0.zip PackageFileSize: 1.327 MiB