Package: EventPointer Version: 3.12.0 Command: F:\biocbuild\bbs-3.19-bioc\R\bin\R.exe CMD INSTALL EventPointer StartedAt: 2024-06-26 16:38:52 -0400 (Wed, 26 Jun 2024) EndedAt: 2024-06-26 16:40:06 -0400 (Wed, 26 Jun 2024) EllapsedTime: 74.0 seconds RetCode: 0 Status: OK