Package: EventPointer Version: 3.12.0 Command: /Library/Frameworks/R.framework/Resources/bin/R CMD INSTALL EventPointer StartedAt: 2024-10-16 16:29:49 -0400 (Wed, 16 Oct 2024) EndedAt: 2024-10-16 16:31:52 -0400 (Wed, 16 Oct 2024) EllapsedTime: 123.3 seconds RetCode: 0 Status: OK