Package: EventPointer Version: 3.12.0 Command: rm -rf EventPointer.buildbin-libdir && mkdir EventPointer.buildbin-libdir && /Users/biocbuild/BBS/utils/build-universal.sh EventPointer_3.12.0.tar.gz /Library/Frameworks/R.framework/Resources/bin/R EventPointer.buildbin-libdir StartedAt: 2024-06-10 00:17:30 -0400 (Mon, 10 Jun 2024) EndedAt: 2024-06-10 00:18:42 -0400 (Mon, 10 Jun 2024) EllapsedTime: 72.3 seconds RetCode: 0 Status: OK PackageFile: EventPointer_3.12.0.tgz PackageFileSize: 1.316 MiB