Package: EventPointer Version: 3.12.0 Command: /home/biocbuild/R/R-beta-2024-04-15_r86425/bin/R CMD check --install=check:EventPointer.install-out.txt --library=/home/biocbuild/R/R-beta-2024-04-15_r86425/site-library --no-vignettes --timings EventPointer_3.12.0.tar.gz StartedAt: 2024-05-09 07:17:26 -0000 (Thu, 09 May 2024) EndedAt: 2024-05-09 07:24:34 -0000 (Thu, 09 May 2024) EllapsedTime: 428.8 seconds RetCode: 0 Status: OK CheckDir: EventPointer.Rcheck Warnings: 0