Package: EventPointer Version: 3.12.0 Command: /Library/Frameworks/R.framework/Resources/bin/R CMD INSTALL EventPointer StartedAt: 2024-10-16 18:16:27 -0400 (Wed, 16 Oct 2024) EndedAt: 2024-10-16 18:17:28 -0400 (Wed, 16 Oct 2024) EllapsedTime: 60.6 seconds RetCode: 0 Status: OK