Package: EpiTxDb Version: 1.16.0 Command: E:\biocbuild\bbs-3.19-bioc\R\bin\R.exe CMD INSTALL EpiTxDb StartedAt: 2024-10-16 16:44:42 -0400 (Wed, 16 Oct 2024) EndedAt: 2024-10-16 16:45:58 -0400 (Wed, 16 Oct 2024) EllapsedTime: 75.7 seconds RetCode: 0 Status: OK