Package: EpiMix Version: 1.6.1 Command: /home/biocbuild/bbs-3.19-bioc/R/bin/R CMD check --install=check:EpiMix.install-out.txt --library=/home/biocbuild/bbs-3.19-bioc/R/site-library --timings EpiMix_1.6.1.tar.gz StartedAt: 2024-10-17 00:08:54 -0400 (Thu, 17 Oct 2024) EndedAt: 2024-10-17 00:23:04 -0400 (Thu, 17 Oct 2024) EllapsedTime: 850.6 seconds RetCode: 0 Status: OK CheckDir: EpiMix.Rcheck Warnings: 0