Package: EpiMix Version: 1.6.1 Command: /Library/Frameworks/R.framework/Resources/bin/R CMD check --install=check:EpiMix.install-out.txt --library=/Library/Frameworks/R.framework/Resources/library --no-vignettes --timings EpiMix_1.6.1.tar.gz StartedAt: 2024-10-17 04:53:26 -0400 (Thu, 17 Oct 2024) EndedAt: 2024-10-17 05:11:23 -0400 (Thu, 17 Oct 2024) EllapsedTime: 1076.9 seconds RetCode: 0 Status: OK CheckDir: EpiMix.Rcheck Warnings: 0