Package: EpiMix Version: 1.6.1 Command: /Library/Frameworks/R.framework/Resources/bin/R CMD build --keep-empty-dirs --no-resave-data EpiMix StartedAt: 2024-06-09 16:34:48 -0400 (Sun, 09 Jun 2024) EndedAt: 2024-06-09 16:40:57 -0400 (Sun, 09 Jun 2024) EllapsedTime: 369.3 seconds RetCode: 0 Status: OK PackageFile: EpiMix_1.6.1.tar.gz PackageFileSize: 2.893 MiB