Package: EpiMix Version: 1.6.1 Command: /home/biocbuild/R/R-beta-2024-04-15_r86425/bin/R CMD INSTALL EpiMix StartedAt: 2024-05-08 20:45:14 -0000 (Wed, 08 May 2024) EndedAt: 2024-05-08 20:46:10 -0000 (Wed, 08 May 2024) EllapsedTime: 56.1 seconds RetCode: 0 Status: OK