Package: EpiMix Version: 1.6.1 Command: /home/biocbuild/R/R-beta-2024-04-15_r86425/bin/R CMD check --install=check:EpiMix.install-out.txt --library=/home/biocbuild/R/R-beta-2024-04-15_r86425/site-library --no-vignettes --timings EpiMix_1.6.1.tar.gz StartedAt: 2024-05-09 07:10:02 -0000 (Thu, 09 May 2024) EndedAt: 2024-05-09 07:20:00 -0000 (Thu, 09 May 2024) EllapsedTime: 598.0 seconds RetCode: 0 Status: OK CheckDir: EpiMix.Rcheck Warnings: 0