Package: EpiMix Version: 1.6.1 Command: /home/biocbuild/R/R-beta-2024-04-15_r86425/bin/R CMD build --keep-empty-dirs --no-resave-data EpiMix StartedAt: 2024-05-09 00:08:35 -0000 (Thu, 09 May 2024) EndedAt: 2024-05-09 00:23:07 -0000 (Thu, 09 May 2024) EllapsedTime: 872.2 seconds RetCode: 0 Status: OK PackageFile: EpiMix_1.6.1.tar.gz PackageFileSize: 2.633 MiB