Package: EpiMix Version: 1.6.1 Command: /Library/Frameworks/R.framework/Resources/bin/R CMD build --keep-empty-dirs --no-resave-data EpiMix StartedAt: 2024-06-09 21:14:14 -0400 (Sun, 09 Jun 2024) EndedAt: 2024-06-09 21:23:46 -0400 (Sun, 09 Jun 2024) EllapsedTime: 572.2 seconds RetCode: 0 Status: OK PackageFile: EpiMix_1.6.1.tar.gz PackageFileSize: 2.902 MiB