Package: EpiMix Version: 1.6.1 Command: rm -rf EpiMix.buildbin-libdir && mkdir EpiMix.buildbin-libdir && /Users/biocbuild/BBS/utils/build-universal.sh EpiMix_1.6.1.tar.gz /Library/Frameworks/R.framework/Resources/bin/R EpiMix.buildbin-libdir StartedAt: 2024-06-11 11:06:39 -0400 (Tue, 11 Jun 2024) EndedAt: 2024-06-11 11:08:17 -0400 (Tue, 11 Jun 2024) EllapsedTime: 98.0 seconds RetCode: 0 Status: OK PackageFile: EpiMix_1.6.1.tgz PackageFileSize: 2.353 MiB