Package: EpiMix Version: 1.6.1 Command: /Library/Frameworks/R.framework/Resources/bin/R CMD INSTALL EpiMix StartedAt: 2024-10-16 17:43:58 -0400 (Wed, 16 Oct 2024) EndedAt: 2024-10-16 17:44:48 -0400 (Wed, 16 Oct 2024) EllapsedTime: 50.6 seconds RetCode: 0 Status: OK