Package: EpiMix Version: 1.6.1 Command: /Library/Frameworks/R.framework/Resources/bin/R CMD build --keep-empty-dirs --no-resave-data EpiMix StartedAt: 2024-10-17 00:03:28 -0400 (Thu, 17 Oct 2024) EndedAt: 2024-10-17 00:11:09 -0400 (Thu, 17 Oct 2024) EllapsedTime: 461.1 seconds RetCode: 0 Status: OK PackageFile: EpiMix_1.6.1.tar.gz PackageFileSize: 2.902 MiB