Package: EpiMix Version: 1.6.1 Command: rm -rf EpiMix.buildbin-libdir && mkdir EpiMix.buildbin-libdir && /Users/biocbuild/BBS/utils/build-universal.sh EpiMix_1.6.1.tar.gz /Library/Frameworks/R.framework/Resources/bin/R EpiMix.buildbin-libdir StartedAt: 2024-10-18 18:22:23 -0400 (Fri, 18 Oct 2024) EndedAt: 2024-10-18 18:23:24 -0400 (Fri, 18 Oct 2024) EllapsedTime: 60.4 seconds RetCode: 0 Status: OK PackageFile: EpiMix_1.6.1.tgz PackageFileSize: 2.352 MiB