Package: EpiDISH Version: 2.20.1 Command: E:\biocbuild\bbs-3.19-bioc\R\bin\R.exe CMD check --no-multiarch --install=check:EpiDISH.install-out.txt --library=E:\biocbuild\bbs-3.19-bioc\R\library --no-vignettes --timings EpiDISH_2.20.1.tar.gz StartedAt: 2024-10-17 01:13:41 -0400 (Thu, 17 Oct 2024) EndedAt: 2024-10-17 01:14:42 -0400 (Thu, 17 Oct 2024) EllapsedTime: 61.0 seconds RetCode: 0 Status: OK CheckDir: EpiDISH.Rcheck Warnings: 0