Package: EpiDISH Version: 2.20.1 Command: rm -rf EpiDISH.buildbin-libdir && mkdir EpiDISH.buildbin-libdir && E:\biocbuild\bbs-3.19-bioc\R\bin\R.exe CMD INSTALL --build --library=EpiDISH.buildbin-libdir EpiDISH_2.20.1.tar.gz StartedAt: 2024-10-17 07:45:12 -0400 (Thu, 17 Oct 2024) EndedAt: 2024-10-17 07:45:29 -0400 (Thu, 17 Oct 2024) EllapsedTime: 17.2 seconds RetCode: 0 Status: OK PackageFile: EpiDISH_2.20.1.zip PackageFileSize: 1.836 MiB