Package: EpiDISH Version: 2.20.0 Command: rm -rf EpiDISH.buildbin-libdir && mkdir EpiDISH.buildbin-libdir && F:\biocbuild\bbs-3.19-bioc\R\bin\R.exe CMD INSTALL --build --library=EpiDISH.buildbin-libdir EpiDISH_2.20.0.tar.gz StartedAt: 2024-06-27 08:10:25 -0400 (Thu, 27 Jun 2024) EndedAt: 2024-06-27 08:10:36 -0400 (Thu, 27 Jun 2024) EllapsedTime: 10.7 seconds RetCode: 0 Status: OK PackageFile: EpiDISH_2.20.0.zip PackageFileSize: 1.836 MiB