Package: EpiDISH Version: 2.20.1 Command: /home/biocbuild/bbs-3.19-bioc/R/bin/R CMD build --keep-empty-dirs --no-resave-data EpiDISH StartedAt: 2024-10-16 18:22:18 -0400 (Wed, 16 Oct 2024) EndedAt: 2024-10-16 18:22:33 -0400 (Wed, 16 Oct 2024) EllapsedTime: 15.0 seconds RetCode: 0 Status: OK PackageFile: EpiDISH_2.20.1.tar.gz PackageFileSize: 2.827 MiB