Package: EpiDISH Version: 2.20.1 Command: /Library/Frameworks/R.framework/Resources/bin/R CMD build --keep-empty-dirs --no-resave-data EpiDISH StartedAt: 2024-10-16 18:59:54 -0400 (Wed, 16 Oct 2024) EndedAt: 2024-10-16 19:00:52 -0400 (Wed, 16 Oct 2024) EllapsedTime: 57.7 seconds RetCode: 0 Status: OK PackageFile: EpiDISH_2.20.1.tar.gz PackageFileSize: 2.828 MiB