Package: EpiDISH Version: 2.20.1 Command: rm -rf EpiDISH.buildbin-libdir && mkdir EpiDISH.buildbin-libdir && /Users/biocbuild/BBS/utils/build-universal.sh EpiDISH_2.20.1.tar.gz /Library/Frameworks/R.framework/Resources/bin/R EpiDISH.buildbin-libdir StartedAt: 2024-10-17 16:06:09 -0400 (Thu, 17 Oct 2024) EndedAt: 2024-10-17 16:06:25 -0400 (Thu, 17 Oct 2024) EllapsedTime: 16.1 seconds RetCode: 0 Status: OK PackageFile: EpiDISH_2.20.1.tgz PackageFileSize: 1.845 MiB