Package: EpiDISH Version: 2.20.0 Command: rm -rf EpiDISH.buildbin-libdir && mkdir EpiDISH.buildbin-libdir && /Users/biocbuild/BBS/utils/build-universal.sh EpiDISH_2.20.0.tar.gz /Library/Frameworks/R.framework/Resources/bin/R EpiDISH.buildbin-libdir StartedAt: 2024-06-10 00:16:58 -0400 (Mon, 10 Jun 2024) EndedAt: 2024-06-10 00:17:08 -0400 (Mon, 10 Jun 2024) EllapsedTime: 10.0 seconds RetCode: 0 Status: OK PackageFile: EpiDISH_2.20.0.tgz PackageFileSize: 1.844 MiB