Package: EpiDISH Version: 2.20.0 Command: /home/biocbuild/R/R-beta-2024-04-15_r86425/bin/R CMD check --install=check:EpiDISH.install-out.txt --library=/home/biocbuild/R/R-beta-2024-04-15_r86425/site-library --no-vignettes --timings EpiDISH_2.20.0.tar.gz StartedAt: 2024-05-09 07:09:23 -0000 (Thu, 09 May 2024) EndedAt: 2024-05-09 07:10:20 -0000 (Thu, 09 May 2024) EllapsedTime: 57.1 seconds RetCode: 0 Status: OK CheckDir: EpiDISH.Rcheck Warnings: 0