Package: EpiDISH Version: 2.20.1 Command: rm -rf EpiDISH.buildbin-libdir && mkdir EpiDISH.buildbin-libdir && /Users/biocbuild/BBS/utils/build-universal.sh EpiDISH_2.20.1.tar.gz /Library/Frameworks/R.framework/Resources/bin/R EpiDISH.buildbin-libdir StartedAt: 2024-10-18 18:21:48 -0400 (Fri, 18 Oct 2024) EndedAt: 2024-10-18 18:21:58 -0400 (Fri, 18 Oct 2024) EllapsedTime: 10.2 seconds RetCode: 0 Status: OK PackageFile: EpiDISH_2.20.1.tgz PackageFileSize: 1.845 MiB