Package: EpiCompare Version: 1.8.1 Command: /home/biocbuild/bbs-3.19-bioc/R/bin/R CMD INSTALL EpiCompare StartedAt: 2024-10-16 16:29:44 -0400 (Wed, 16 Oct 2024) EndedAt: 2024-10-16 16:30:32 -0400 (Wed, 16 Oct 2024) EllapsedTime: 47.8 seconds RetCode: 0 Status: OK