Package: EpiCompare Version: 1.8.1 Command: /Library/Frameworks/R.framework/Resources/bin/R CMD INSTALL EpiCompare StartedAt: 2024-10-16 16:19:53 -0400 (Wed, 16 Oct 2024) EndedAt: 2024-10-16 16:21:44 -0400 (Wed, 16 Oct 2024) EllapsedTime: 111.1 seconds RetCode: 0 Status: OK