Package: EpiCompare Version: 1.8.1 Command: /Library/Frameworks/R.framework/Resources/bin/R CMD build --keep-empty-dirs --no-resave-data EpiCompare StartedAt: 2024-10-16 18:59:24 -0400 (Wed, 16 Oct 2024) EndedAt: 2024-10-16 19:03:21 -0400 (Wed, 16 Oct 2024) EllapsedTime: 237.0 seconds RetCode: 0 Status: OK PackageFile: EpiCompare_1.8.1.tar.gz PackageFileSize: 1.869 MiB