Package: EpiCompare Version: 1.8.1 Command: rm -rf EpiCompare.buildbin-libdir && mkdir EpiCompare.buildbin-libdir && /Users/biocbuild/BBS/utils/build-universal.sh EpiCompare_1.8.1.tar.gz /Library/Frameworks/R.framework/Resources/bin/R EpiCompare.buildbin-libdir StartedAt: 2024-10-17 16:06:03 -0400 (Thu, 17 Oct 2024) EndedAt: 2024-10-17 16:08:01 -0400 (Thu, 17 Oct 2024) EllapsedTime: 118.0 seconds RetCode: 0 Status: OK PackageFile: EpiCompare_1.8.1.tgz PackageFileSize: 1.647 MiB