Package: EpiCompare Version: 1.8.1 Maintainer: Thomas Roberts MaintainerEmail: tomroberts.work15 at gmail.com git_url: https://git.bioconductor.org/packages/EpiCompare git_branch: RELEASE_3_19 git_last_commit: 978d0df git_last_commit_date: 2024-07-31 14:51:54 -0400 (Wed, 31 Jul 2024)