Package: EnrichmentBrowser Version: 2.34.1 Command: chmod a+r EnrichmentBrowser -R && E:\biocbuild\bbs-3.19-bioc\R\bin\R.exe CMD build --keep-empty-dirs --no-resave-data EnrichmentBrowser StartedAt: 2024-10-16 18:52:07 -0400 (Wed, 16 Oct 2024) EndedAt: 2024-10-16 18:54:35 -0400 (Wed, 16 Oct 2024) EllapsedTime: 147.3 seconds RetCode: 0 Status: OK PackageFile: EnrichmentBrowser_2.34.1.tar.gz PackageFileSize: 1.264 MiB