Package: EnrichmentBrowser Version: 2.34.1 Command: F:\biocbuild\bbs-3.19-bioc\R\bin\R.exe CMD check --no-multiarch --install=check:EnrichmentBrowser.install-out.txt --library=F:\biocbuild\bbs-3.19-bioc\R\library --no-vignettes --timings EnrichmentBrowser_2.34.1.tar.gz StartedAt: 2024-06-27 01:20:50 -0400 (Thu, 27 Jun 2024) EndedAt: 2024-06-27 01:28:17 -0400 (Thu, 27 Jun 2024) EllapsedTime: 447.9 seconds RetCode: 0 Status: OK CheckDir: EnrichmentBrowser.Rcheck Warnings: 0